Workbook

Sheet priemonės
L1: Marijampolės savivaldybės
L2: 2015-2017 metų strateginio veiklos plano
L3: 12 priedas
A4: 2015-2017 M. MARIJAMPOLĖS SAVIVALDYBĖS
A5: VALDYMO KOKYBĖS TOBULINIMO IR PAGRINDINIŲ FUNKCIJŲ VYKDYMO PROGRAMOS (Nr.06) TIKSLAI, UŽDAVINIAI, PRIEMONĖS IR ASIGNAVIMAI
O7: Eur
A8: Programos tikslo kodas | B8: Uždavinio kodas | C8: Priemonės kodas | D8: Priemonės pavadinimas | E8: Priemonės požymis | F8: Funkcinės klasifikacijos kodas | G8: Asignavimų valdytojo kodas | H8: Priemonės vykdytojo kodas | I8: Finansavimo šaltinis | J8: 2015-ųjų metų asignavimų planas | N8: Numatomi 2016- ųjų metų asignavimai | O8: Numatomi 2017-ųjų metų asignavimai
J9: Iš viso | K9: Išlaidoms | M9: turtui įsigyti ir finansiniams įsipareigojimams vykdyti
K10: Iš viso | L10: Iš jų darbo užmokesčiui
A11: 02 Strateginis tikslas. Efektyviai panaudojant žmogiškuosius ir finansinius išteklius vystyti konkurencingą ekonominę aplinką verslui ir kaimo plėtrai bei gerinti valdymo kokybę
A12: 06 Savivaldybės valdymo kokybės tobulinimo ir pagrindinių funkcijų vykdymo programa
A13: 01 | B13: Gerinti Savivaldybės veiklą, didinti teikiamų administracinių paslaugų kokybę
A14: 01 | B14: 01 | C14: Užtikrinti valdžios, valdymo ir administravimo kokybišką veiklą
A15: 01 | B15: 01 | C15: 01 | D15: Savivaldybės administracijos veiklos užtikrinimas: | F15: 1-10 | G15: 188769113 | H15: 0
D17: Administracija | I17: SB | J17: 2746975 | K17: 2698975 | L17: 1839354 | M17: 48000 | N17: 2688000 | O17: 2688000
D19: Kaimiškosios seniūnijos | I19: SB | J19: 210800 | K19: 130100 | L19: 0 | M19: 80700 | N19: 210800 | O19: 210800
I21: Iš viso: | J21: =SUM(J15:J20) -> 2957775 | K21: =SUM(K15:K20) -> 2829075 | L21: =SUM(L15:L20) -> 1839354 | M21: =SUM(M15:M20) -> 128700 | N21: =SUM(N15:N20) -> 2898800 | O21: =SUM(O15:O20) -> 2898800
A22: 01 | B22: 01 | C22: 02 | D22: Savivaldybės tarybos veiklos užtikrinimas | F22: 01 | G22: 188769113 | I22: SB | J22: 248000 | K22: 248000 | L22: 113630 | M22: 0 | N22: 269000 | O22: 269000
I24: Iš viso: | J24: =SUM(J22:J23) -> 248000 | K24: =SUM(K22:K23) -> 248000 | L24: =SUM(L22:L23) -> 113630 | M24: =SUM(M22:M23) -> 0 | N24: =SUM(N22:N23) -> 269000 | O24: =SUM(O22:O23) -> 269000
A25: 01 | B25: 01 | C25: 03 | D25: Kontrolės ir audito tarnybos veiklos užtikrinimas | F25: 01 | G25: 188769113 | I25: SB | J25: 108000 | K25: 107140 | L25: 73600 | M25: 860 | N25: 108000 | O25: 108000
I28: Iš viso: | J28: =SUM(J25:J27) -> 108000 | K28: =SUM(K25:K27) -> 107140 | L28: =SUM(L25:L27) -> 73600 | M28: =SUM(M25:M27) -> 860 | N28: =SUM(N25:N27) -> 108000 | O28: =SUM(O25:O27) -> 108000
A29: 01 | B29: 01 | C29: Iš viso uždaviniui: | J29: =J21+J24+J28 -> 3313775 | K29: =K21+K24+K28 -> 3184215 | L29: =L21+L24+L28 -> 2026584 | M29: =M21+M24+M28 -> 129560 | N29: =N21+N24+N28 -> 3275800 | O29: =O21+O24+O28 -> 3275800
A30: 01 | B30: 02 | C30: Užtikrinti efektyvų Savivaldybei nuosavybės teise priklausančio ir patikėjimo teise valdomo turto naudojimą
A31: 01 | B31: 02 | C31: 01 | D31: Socialinio būsto fondo plėtra | F31: 10 | G31: 188769113 | H31: 2.3. | I31: PF | J31: 8000 | K31: 8000 | L31: 0 | M31: 0 | N31: 0 | O31: 0
I32: Kt. | J32: 295560 | K32: 0 | L32: 0 | M32: 295560 | N32: 0 | O32: 0
I33: Iš viso: | J33: =SUM(J31:J32) -> 303560 | K33: =SUM(K31:K32) -> 8000 | L33: =SUM(L31:L32) -> 0 | M33: =SUM(M31:M32) -> 295560 | N33: =SUM(N31:N32) -> 0 | O33: =SUM(O31:O32) -> 0
A34: 01 | B34: 02 | C34: 02 | D34: Savivaldybės turto valdymo išlaidos (gyvenamųjų ir negyvenamųjų patalpų remontas, turto inventorizacija, žemės sklypų geodeziniai matavimai, teisinė registracija, nuosavybės teise priklausančių patalpų išlaikymo išlaidos, kt.) | F34: 01 | G34: 188769113 | H34: 2.3. | I34: PF | J34: 75000 | K34: 75000 | L34: 0 | M34: 0 | N34: 0 | O34: 0
I35: SB(SP) | J35: 124776 | K35: 124776 | L35: 0 | M35: 0 | N35: 124000 | O35: 124000
I36: Iš viso: | J36: =J34+J35 -> 199776 | K36: =K34+K35 -> 199776 | L36: =L34+L35 -> 0 | M36: =M34+M35 -> 0 | N36: =N34+N35 -> 124000 | O36: =O34+O35 -> 124000
A37: 01 | B37: 02 | C37: Iš viso uždaviniui: | J37: =J33+J36 -> 503336 | K37: =K33+K36 -> 207776 | L37: =L33+L36 -> 0 | M37: =M33+M36 -> 295560 | N37: =N33+N36 -> 124000 | O37: =O33+O36 -> 124000
A38: 01 | B38: 03 | C38: Diegti savivaldybės administracijoje modernias informacines sistemas, plėsti e-paslaugų spektrą bei mažinti administracinę naštą
A39: 01 | B39: 03 | C39: 01 | D39: Informacinių technologijų ir elektroninių paslaugų plėtojimas Savivaldybės administracijoje: | F39: 01 | G39: 188769113 | H39: 5.5 | I39: SB | J39: 42200 | K39: 7400 | M39: 34800 | N39: 80000 | O39: 80000
I40: Iš viso: | J40: =SUM(J39) -> 42200 | K40: =SUM(K39) -> 7400 | L40: =SUM(L39) -> 0 | M40: =SUM(M39) -> 34800 | N40: =SUM(N39) -> 80000 | O40: =SUM(O39) -> 80000
D41: Kompiuterinės technikos ir licenzijuotos programinės įrangos įsigijimas
D42: Kompiuterinės technikos ir programinės įrangos priežiūra
A43: 01 | B43: 03 | C43: 02 | D43: Gerinti asmenų aptarnavimo „Vieno langelio" principu kokybę, suteikti paslaugas vietoje, nenukreipiant jų kitiems įstaigos tarnautojams ar darbuotojams | F43: 01 | G43: 188769113 | H43: 0
A44: 01 | B44: 03 | C44: 03 | D44: Skatinti asmenis atlikti informacinio įsipareigojimo veiksmus naudojantis elektroninėmis paslaugomis Savivaldybės interneto svetainėje | F44: 01 | H44: 0
A45: 01 | B45: 03 | C45: 04 | D45: Reguliariai peržiūrėti ir koreguoti administracinių paslaugų teikimo aprašymus, atnaujintą informaciją skelbti Savivaldybės interneto svetainėje | F45: 01 | H45: 5.2.
A46: 01 | B46: 03 | C46: Iš viso uždaviniui: | J46: =SUM(J39) -> 42200 | K46: =SUM(K39) -> 7400 | L46: =SUM(L39) -> 0 | M46: =SUM(M39) -> 34800 | N46: =SUM(N39) -> 80000 | O46: =SUM(O39) -> 80000
A47: 01 | B47: 04 | C47: Užtikrinti finansinių įsipareigojimų vykdymą
A48: 01 | B48: 04 | C48: 01 | D48: Paskolų grąžinimas ir palūkanų mokėjimas | F48: 04 | G48: 188769113 | H48: 2.1. | I48: SB | J48: 945844 | K48: 194933 | L48: 0 | M48: 750911 | N48: 760000 | O48: 760000
I50: Iš viso: | J50: =J49+J48 -> 945844 | K50: =K49+K48 -> 194933 | L50: =L49+L48 -> 0 | M50: =M49+M48 -> 750911 | N50: =N49+N48 -> 760000 | O50: =O49+O48 -> 760000
A51: 01 | B51: 04 | C51: Iš viso uždaviniui: | J51: =J50 -> 945844 | K51: =K50 -> 194933 | L51: =L50 -> 0 | M51: =M50 -> 750911 | N51: =N50 -> 760000 | O51: =O50 -> 760000
A52: 01 | B52: 05 | C52: Užtikrinti kitų lėšų tikslinį panaudojimą
A53: 01 | B53: 05 | C53: 01 | D53: Savivaldybės mero fondo lėšų naudojimas | F53: 01 | G53: 188769113 | H53: 2.1. | I53: SB | J53: 5000 | K53: 5000 | L53: 0 | M53: 0 | N53: 5000 | O53: 5000
I55: Iš viso: | J55: =J54+J53 -> 5000 | K55: =K54+K53 -> 5000 | L55: =L54+L53 -> 0 | M55: =M54+M53 -> 0 | N55: =N54+N53 -> 5000 | O55: =O54+O53 -> 5000
A56: 01 | B56: 05 | C56: 02 | D56: Administracijos direktoriaus rezervo lėšų naudojimas | F56: 01 | G56: 188769113 | H56: 2.1. | I56: SB | J56: 9000 | K56: 9000 | L56: 0 | M56: 0 | N56: 9000 | O56: 9000
I58: Iš viso: | J58: =J57+J56 -> 9000 | K58: =K57+K56 -> 9000 | L58: =L57+L56 -> 0 | M58: =M57+M56 -> 0 | N58: =N57+N56 -> 9000 | O58: =O57+O56 -> 9000
A59: 01 | B59: 05 | C59: 03 | D59: Nevyriausybinių organizacijų ir religinių bendrijų projektų dalinis finansavimas | F59: 08 | G59: 188769113 | H59: 2.1. | I59: SB | J59: 40400 | K59: 40400 | L59: 0 | M59: 0 | N59: 40500 | O59: 40500
I61: Iš viso: | J61: =J60+J59 -> 40400 | K61: =K60+K59 -> 40400 | L61: =L60+L59 -> 0 | M61: =M60+M59 -> 0 | N61: =N60+N59 -> 40500 | O61: =O60+O59 -> 40500
A62: 01 | B62: 05 | C62: 04 | D62: Studijų rėmimo fondo naudojimas | F62: 09 | G62: 188769113 | H62: 4.1. | I62: SB | J62: 3470 | K62: 3470 | L62: 0 | M62: 0 | N62: 0 | O62: 0
I64: Iš viso: | J64: =J63+J62 -> 3470 | K64: =K63+K62 -> 3470 | L64: =L63+L62 -> 0 | M64: =M63+M62 -> 0 | N64: =N63+N62 -> 0 | O64: =O63+O62 -> 0
A65: 01 | B65: 05 | C65: Iš viso uždaviniui: | J65: =J55+J58+J64+J61 -> 57870 | K65: =K55+K58+K64+K61 -> 57870 | L65: =L55+L58+L64+L61 -> 0 | M65: =M55+M58+M64+M61 -> 0 | N65: =N55+N58+N64+N61 -> 54500 | O65: =O55+O58+O64+O61 -> 54500
A66: 01 | B66: Iš viso tikslui: | J66: =J46+J29+J37+J51+J65 -> 4863025 | K66: =K46+K29+K37+K51+K65 -> 3652194 | L66: =L46+L29+L37+L51+L65 -> 2026584 | M66: =M46+M29+M37+M51+M65 -> 1210831 | N66: =N46+N29+N37+N51+N65 -> 4294300 | O66: =O46+O29+O37+O51+O65 -> 4294300
A67: 02 | B67: Plėtoti Savivaldybės viešuosius ir tarptautinius ryšius
A68: 02 | B68: 01 | C68: Užtikrinti efektyvią savivaldybės reprezentaciją, kurti ir įgyvendinti savivaldybės viešųjų ryšių strategiją.
A69: 02 | B69: 01 | C69: 01 | D69: Savivaldybės oficialios informacijos skelbimas spaudoje, interneto svetainėse, per televiziją bei radiją | F69: 01 | G69: 188769113 | H69: 1.7. | I69: SB | J69: 22500 | K69: 22500 | L69: 0 | M69: 0 | N69: 23000 | O69: 23000
I71: Iš viso: | J71: =J69+J70 -> 22500 | K71: =K69+K70 -> 22500 | M71: =M69+M70 -> 0 | N71: =N69+N70 -> 23000 | O71: =O69+O70 -> 23000
A72: 02 | B72: 01 | C72: 02 | D72: ES struktūrinės paramos projektų viešinimas | F72: 01 | G72: 188769113 | H72: 1.7. | I72: ES | J72: 0 | K72: 0 | L72: 0 | M72: 0 | N72: 0 | O72: 0
I74: Iš viso: | J74: =J72+J73 -> 0 | K74: =K72+K73 -> 0 | M74: =M72+M73 -> 0 | N74: =N72+N73 -> 0 | O74: =O72+O73 -> 0
A75: 02 | B75: 01 | C75: Iš viso uždaviniui: | J75: =J74+J71 -> 22500 | K75: =K74+K71 -> 22500 | L75: =L74+L71 -> 0 | M75: =M74+M71 -> 0 | N75: =N74+N71 -> 23000 | O75: =O74+O71 -> 23000
A76: 02 | B76: 02 | C76: Plėtoti bei stiprinti dalykinius ryšius su šalies bei užsienio savivaldybėmis - partnerėmis, dalyvauti vietos ir tarptautinių organizacijų veikloje, projektuose.
A77: 02 | B77: 02 | C77: 01 | D77: Užsienio šalių partnerių priėmimai ir kitos reprezentacinės išlaidos: | F77: 01 | G77: 188769113 | H77: 1.7. | I77: SB | J77: 22000 | K77: 22000 | L77: 0 | M77: 0 | N77: 22000 | O77: 22000
D79: Savivaldybės reprezentaciniai leidiniai
D80: Reprezentacinių videofilmų kūrimas
I81: Iš viso: | J81: =J77 -> 22000 | K81: =K77 -> 22000 | L81: =L77 -> 0 | M81: =M77 -> 0 | N81: =N77 -> 22000 | O81: =O77 -> 22000
A82: 02 | B82: 02 | C82: 02 | D82: VšĮ Nemuno euroregiono dalininko nario mokestis | F82: 04 | G82: 188769113 | H82: 1.7. | I82: SB | J82: 9200 | K82: 9200 | L82: 0 | M82: 0 | N82: 9200 | O82: 9200
I84: Iš viso: | J84: =J82+J83 -> 9200 | K84: =K82+K83 -> 9200 | L84: 0 | M84: =M82+M83 -> 0 | N84: =N82+N83 -> 9200 | O84: =O82+O83 -> 9200
A85: 02 | B85: 02 | C85: 03 | D85: Lietuvos savivaldybių asociacijos nario mokestis | F85: 01 | G85: 188769113 | H85: 2.1 | I85: SB | J85: 12000 | K85: 12000 | L85: 0 | M85: 0 | N85: 12000 | O85: 12000
I87: Iš viso: | J87: =J85 -> 12000 | K87: =K85 -> 12000 | M87: =M85 -> 0 | N87: =N86+N85 -> 12000 | O87: =O86+O85 -> 12000
A88: 02 | B88: 02 | C88: Iš viso uždaviniui: | J88: =J81+J84+J87 -> 43200 | K88: =K81+K84+K87 -> 43200 | L88: =L81+L84+L87 -> 0 | M88: =M81+M84+M87 -> 0 | N88: =N81+N84+N87 -> 43200 | O88: =O81+O84+O87 -> 43200
A89: 02 | B89: Iš viso tikslui: | J89: =J75+J88 -> 65700 | K89: =K75+K88 -> 65700 | L89: =L75+L88 -> 0 | M89: =M75+M88 -> 0 | N89: =N75+N88 -> 66200 | O89: =O75+O88 -> 66200
A90: 06 | B90: Iš viso programai: | J90: =J89+J66 -> 4928725 | K90: =K89+K66 -> 3717894 | L90: =L89+L66 -> 2026584 | M90: =M89+M66 -> 1210831 | N90: =N89+N66 -> 4360500 | O90: =O89+O66 -> 4360500
I92: Finansavimo šaltinių suvestinė
C94: Finansavimo šaltiniai | J94: Asignavimai biudžetiniams 2015-iesiems metams
C95: SAVIVALDYBĖS LĖŠOS, IŠ VISO: | J95: =SUM(J96:M99) -> 4633165
C96: Savivaldybės biudžeto lėšos SB | J96: =J17+J19+J22+J25+J39+J48+J53+J56+J59+J62+J69+J77+J82+J85 -> 4425389
C97: Įstaigų pajamos už suteiktas paslaugas SB(SP) | J97: =J35 -> 124776
C98: Valstybės ir savivaldybės biudžeto tarpusavio atsiskaitymų lėšos SB(TA)
C99: Savivaldybės privatizavimo fondo lėšos PF | J99: =J31+J34 -> 83000
C100: KITI ŠALTINIAI, IŠ VISO: | J100: =J101+J102 -> 295560
C101: Valstybės biudžeto lėšos LRVB
C102: Kitos lėšos (Kt.) | J102: =J32 -> 295560
C103: IŠ VISO: | J103: =J100+J95 -> 4928725

Sheet asignavimai
A1: Programos (Nr.06) asignavimai ir numatomi finansavimo šaltiniai
D2: Eur
A3: Ekonominės klasifikacijos grupės | B3: Asignavimai biudžetiniams 2015-iesiems metams | C3: Numatomi 2016-ųjų metų asignavimai | D3: Numatomi 2017-ųjų metų asignavimai
A7: 1. IŠ VISO LĖŠŲ POREIKIS: | B7: =B8+B10 -> 4928725 | C7: =C8+C10 -> 4360500 | D7: =D8+D10 -> 4360500
A8: 1.1. išlaidoms, iš jų: | B8: =SUM(priemonės!K90) -> 3717894 | C8: =SUM(priemonės!N90) -> 4360500 | D8: =SUM(priemonės!O90) -> 4360500
A9: 1.1.1. darbo užmokesčiui | B9: =SUM(priemonės!L90) -> 2026584 | C9: 0 | D9: 0
A10: 1.2. turtui įsigyti ir finansiniams įsipareigojimams vykdyti | B10: =SUM(priemonės!M90) -> 1210831 | C10: 0 | D10: 0
A11: 2. FINANSAVIMO ŠALTINIAI: | B11: =B12+B23 -> 4928725 | C11: =C12+C23 -> 4360500 | D11: =D12+D23 -> 4360500
A12: 2.1. SAVIVALDYBĖS LĖŠOS, IŠ VISO: | B12: =B13+B22 -> 4633165 | C12: =C13+C22 -> 4360500 | D12: =D13+D22 -> 4360500
A13: 2.1.1. Savivaldybės biudžetas, iš jo: | B13: =B14+B15+B16+B17+B18+B19+B20+B21 -> 4550165 | C13: =C14+C15+C16+C17+C18+C19+C20+C21 -> 4360500 | D13: =D14+D15+D16+D17+D18+D19+D20+D21 -> 4360500
A14: 2.1.1.1. Savivaldybės biudžeto lėšos SB | B14: =priemonės!J96 -> 4425389 | C14: =priemonės!N17+priemonės!N19+priemonės!N22+priemonės!N25+priemonės!N39+priemonės!N48+priemonės!N53+priemonės!N56+priemonės!N59+priemonės!N62+priemonės!N69+priemonės!N77+priemonės!N82+priemonės!N85 -> 4236500 | D14: =priemonės!O17+priemonės!O19+priemonės!O22+priemonės!O25+priemonės!O39+priemonės!O48+priemonės!O53+priemonės!O56+priemonės!O59+priemonės!O62+priemonės!O69+priemonės!O77+priemonės!O82+priemonės!O85 -> 4236500
A15: 2.1.1.2. Savivaldybės aplinkos apsaugos rėmimo specialiosios programos lėšos SB(AA) | B15: 0 | C15: 0 | D15: 0
A16: 2.1.1.3. Įstaigų pajamos už suteiktas paslaugas SB(SP) | B16: =priemonės!J97 -> 124776 | C16: =priemonės!N35 -> 124000 | D16: =priemonės!O35 -> 124000
A17: 2.1.1.4. Paskolos lėšos P | B17: 0 | C17: 0 | D17: 0
A18: 2.1.1.5. Valstybės biudžeto specialiosios tikslinės dotacijos lėšos SB(VB) | B18: 0 | C18: 0 | D18: 0
A19: 2.1.1.6. Valstybės biudžeto specialiosios tikslinės dotacijos lėšos (iš valstybės investicijų programos) SB(VIP) | B19: 0 | C19: 0 | D19: 0
A20: 2.1.1.7. Savivaldybės biudžeto lėšos projektams kofinansuoti SB(ES) | B20: 0 | C20: 0 | D20: 0
A21: 2.1.1.8. Valstybės ir savivaldybės biudžeto tarpusavio atsiskaitymų lėšos SB(TA) | B21: 0 | C21: 0 | D21: 0
A22: 2.1.2. Savivaldybės privatizavimo fondo lėšos PF | B22: =SUM(priemonės!J99:M99) -> 83000 | C22: =priemonės!N31+priemonės!N34 -> 0 | D22: =priemonės!O31+priemonės!O34 -> 0
A23: 2.2. KITI ŠALTINIAI, IŠ VISO: | B23: =B24+B25+B26+B27+B29 -> 295560 | C23: =C24+C25+C26+C27+C29 -> 0 | D23: =D24+D25+D26+D27+D29 -> 0
A24: 2.2.1.Europos Sąjungos paramos lėšos ES | B24: 0 | C24: 0 | D24: 0
A25: 2.2.2.Kelių priežiūros ir plėtros programos lėšos KPPP | B25: 0 | C25: 0 | D25: 0
A26: 2.2.3. Valstybės biudžeto lėšos LRVB | B26: =SUM(priemonės!J101:M101) -> 0 | C26: =SUM(priemonės!N31,) -> 0 | D26: =SUM(priemonės!O31,) -> 0
A27: 2.2.4. Paskolos lėšos P | B27: 0 | C27: 0 | D27: 0
A28: 2.2.6.. Privalomojo sveikatos draudimo fondo lėšos PSDF | B28: 0 | C28: 0 | D28: 0
A29: 2.2.5. Kiti finansavimo šaltiniai Kt | B29: =priemonės!J32 -> 295560 | C29: 0 | D29: 0

Sheet vertinimo kriterijai
A1: VALDYMO KOKYBĖS TOBULINIMO IR PAGRINDINIŲ FUNKCIJŲ VYKDYMO PROGRAMOS (06)
A2: TIKSLAI, UŽDAVINIAI, VERTINIMO KRITERIJAI IR JŲ REIKŠMĖS
A5: Vertinimo kriterijaus kodas | B5: Tikslų, uždavinių, vertinimo kriterijų pavadinimai ir mato vienetai | C5: Vertinimo kriterijų reikšmės
C6: 2015m. | D6: 2016m. | E6: 2017m.
B7: 02.06.01 Gerinti Savivaldybės veiklą, didinti teikiamų administracinių paslaugų kokybę
A8: R-02-06-01-01 | B8: Savivaldybės administracijos darbuotojų metinė kaita (atleistų ir priimtų darbuotojų skirtumas) vnt. | C8: 0 | D8: 0 | E8: 0
A9: R-02-06-01-02 | B9: Gyventojų, pasinaudojusių teikiamomis elektroninėmis paslaugomis skaičius, tūkst.vnt. | C9: 15 | D9: 20 | E9: 25
A10: R-02-06-01-03 | B10: Finansinių įsipareigojimų vykdymas pagal pasirašytas sutartis arba patvirtintus grafikus (proc.) | C10: 100 | D10: 100 | E10: 100
B11: 02.06.01-01 Užtikrinti valdžios, valdymo ir administravimo kokybišką veiklą
A12: P-02-06-01-01-01 | B12: Valstybės tarnautojų etatų skaičius | C12: 161 | D12: 161 | E12: 161
A13: P-02-06-01-01-02 | B13: Darbuotojų, dirbančių pagal darbo sutartis, etatų skaičius | C13: 113.75 | D13: 113.75 | E13: 113.75
A14: P-02-06-01-01-03 | B14: Tarybos narių skaičius | C14: 27 | D14: 27 | E14: 27
A15: P-02-06-01-01-04 | B15: Kontrolės ir audito tarnybos darbuotojų skaičius | C15: 5 | D15: 5 | E15: 5
B16: 02.06.01-02 Užtikrinti efektyvų Savivaldybei nuosavybės teise priklausančio ir patikėjimo teise valdomo turto naudojimą
A17: P-02-06-01-02-01 | B17: Socialinio būsto fondo kaita Marijampolės savivaldybėje (socialinių būstų sk.) | C17: 40 | D17: 0 | E17: 0
A18: P-02-06-01-02-02 | B18: Teisiškai įregistruota objektų skaičius, vnt. | C18: 50 | D18: 60 | E18: 70
A19: P-02-06-01-02-03 | B19: Privatizuota objektų skaičius, vnt. | C19: 12 | D19: 8 | E19: 7
B20: 02.06.01-03 Diegti savivaldybės administracijoje modernias informacines sistemas, plėsti e-paslaugų spektrą bei mažinti administracinę naštą
A21: P-02-06-01-03-01 | B21: Naujesniais nei 5 metų kompiuteriais kompiuterizuotų darbo vietų skaičius, vnt. | C21: 110 | D21: 120 | E21: 130
A22: P-02-06-01-03-02 | B22: Įsigyta programinės įrangos licenzijų skaičius, vnt. | C22: 50 | D22: 50 | E22: 50
A23: P-02-06-01-03-03 | B23: Perkeltų į elektroninę erdvę paslaugų skaičius, vnt. | C23: 194 | D23: 194 | E23: 194
A24: P-02-06-01-03-04 | B24: Prisijungta prie valstybės institucijų informacinių sistemų (Gyventojų registro, Regitros, Registrų centro), tūkst.kartų | C24: 0 | D24: 0 | E24: 0
A25: P-02-06-01-03-04 | B25: Įdiegta priemonių, mažinančių administracinę naštą, vnt. | C25: 2 | D25: 3 | E25: 4
B26: 02.06.01-04 Užtikrinti finansinių įsipareigojimų vykdymą
A27: P-02-06-01-04-01 | B27: Paskolų ir palūkanų mokėjimas pagal grafiką proc. | C27: 100 | D27: 100 | E27: 100
A28: P-02-06-01-04-02 | B28: Finansuotų NVO ir religinių bendrijų projektų skaičius, vnt. | C28: 60 | D28: 60 | E28: 60
B29: 02.06.01-05 Užtikrinti kitų lėšų tikslinį panaudojimą
A30: P-02-06-01-05-01 | B30: Paremtų fizinių bei juridinių asmenų skaičius iš Administracijos direktoriaus rezervo, vnt. | C30: 50 | D30: 50 | E30: 50
B31: 02.06.02 Plėtoti Savivaldybės viešuosius ir tarptautinius ryšius
A32: R-02-06-02-01 | B32: Vartotojų, apsilankiusių Savivaldybės internetinėje svetainėje, skaičius tūkst. per metus | C32: 3000 | D32: 3200 | E32: 3200
A33: R-02-06-02-02 | B33: Marijampolės savivaldybės veikla patenkintų gyventojų dalis, proc.(Apklausos rezultatai) | C33: 60 | D33: 60 | E33: 60
B34: 02.06.02-01 Užtikrinti efektyvią savivaldybės reprezentaciją, kurti ir įgyvendinti savivaldybės viešųjų ryšių strategiją.
A35: P-02-06-02-01-01 | B35: Pranešimų skaičius, vnt. | C35: 80 | D35: 80 | E35: 80
A36: P-02-06-02-01-02 | B36: ES struktūrinės paramos projektų viešinimo pranešimų skaičius, vnt. | C36: 8 | D36: 10 | E36: 15
B37: 02.06.02-02 Plėtoti bei stiprinti dalykinius ryšius su šalies bei užsienio savivaldybėmis - partnerėmis, dalyvauti vietos ir tarptautinių organizacijų veikloje, projektuose.
A38: P-02-06-02-02-01 | B38: Miestų partnerių skaičius vnt. | C38: 15 | D38: 15 | E38: 15
A39: P-02-06-02-02-02 | B39: Išleista reprezentacinių leidinių, vnt. | C39: 5 | D39: 5 | E39: 5
A40: P-02-06-02-02-03 | B40: Sukurta reprezentacinių videofilmų, vnt. | C40: 1 | D40: 1 | E40: 1
A41: P-02-06-02-02-04 | B41: Įsigyta suvenyrų, vnt. | C41: 5 | D41: 5 | E41: 5
A42: _____________________________________________
